BEGIN:VCALENDAR
VERSION:2.0
PRODID:-//Kids Center for Pediatric Therapies - ECPv6.15.20//NONSGML v1.0//EN
CALSCALE:GREGORIAN
METHOD:PUBLISH
X-ORIGINAL-URL:https://kidscenterky.org
X-WR-CALDESC:Events for Kids Center for Pediatric Therapies
REFRESH-INTERVAL;VALUE=DURATION:PT1H
X-Robots-Tag:noindex
X-PUBLISHED-TTL:PT1H
BEGIN:VTIMEZONE
TZID:America/New_York
BEGIN:DAYLIGHT
TZOFFSETFROM:-0500
TZOFFSETTO:-0400
TZNAME:EDT
DTSTART:20250309T070000
END:DAYLIGHT
BEGIN:STANDARD
TZOFFSETFROM:-0400
TZOFFSETTO:-0500
TZNAME:EST
DTSTART:20251102T060000
END:STANDARD
BEGIN:DAYLIGHT
TZOFFSETFROM:-0500
TZOFFSETTO:-0400
TZNAME:EDT
DTSTART:20260308T070000
END:DAYLIGHT
BEGIN:STANDARD
TZOFFSETFROM:-0400
TZOFFSETTO:-0500
TZNAME:EST
DTSTART:20261101T060000
END:STANDARD
BEGIN:DAYLIGHT
TZOFFSETFROM:-0500
TZOFFSETTO:-0400
TZNAME:EDT
DTSTART:20270314T070000
END:DAYLIGHT
BEGIN:STANDARD
TZOFFSETFROM:-0400
TZOFFSETTO:-0500
TZNAME:EST
DTSTART:20271107T060000
END:STANDARD
END:VTIMEZONE
BEGIN:VEVENT
DTSTART;VALUE=DATE:20260325
DTEND;VALUE=DATE:20260326
DTSTAMP:20260425T070409
CREATED:20241125T181405Z
LAST-MODIFIED:20260313T152013Z
UID:10000014-1774396800-1774483199@kidscenterky.org
SUMMARY:2026 Champions Breakfast
DESCRIPTION:March 25\, 2026 | 8 AM\nKentucky Derby Museum | Louisville\, KY\n  \nChampions Breakfast is Kids Center’s annual morning of inspiration\, connection\, and impact. Join fellow community leaders\, families\, and supporters for breakfast and a powerful program that celebrates champions in every sense\, from individuals honored for a lifetime of service to children and families whose courage and progress inspire us all. \nThrough moving stories and shared purpose\, Champions Breakfast offers a meaningful opportunity to see the impact of Kids Center firsthand and be part of the momentum that helps children reach new milestones. \n \n  \nFor information about sponsorship opportunities or ticket purchases\, contact: \nNick Pemberton | Project Coordinator  \n502.584.9781 ext. 184 | npemberton@kidscenterky.org \n  \nCan’t Make It to the Event?\nYou can still support the children and families who rely on Kids Center every day. Your gift helps provide life-changing therapies that build confidence\, independence\, and connection. \n \n  \n2026 Event Sponsors\nGOLD SPONSORS\n \nSILVER SPONSOR\n \n\nBRONZE SPONSOR\n \nKIDS HERO PARTNER\n \n\nBEST FRIEND PARTNER\n\n\n\n\n\n\n  \n  \n  \n  \nIN-KIND SPONSOR
URL:https://kidscenterky.org/event/breakfast/
LOCATION:Kentucky Derby Museum\, 704 Central Avenue\, Louisville\, KY\, 40208
CATEGORIES:Kids Center Events
END:VEVENT
BEGIN:VEVENT
DTSTART;TZID=America/New_York:20260726T143000
DTEND;TZID=America/New_York:20260726T163000
DTSTAMP:20260425T070409
CREATED:20260424T083028Z
LAST-MODIFIED:20260424T204647Z
UID:10000016-1785076200-1785083400@kidscenterky.org
SUMMARY:2026 Back-to-School Fashion Show
DESCRIPTION:Sunday\, July 26 | 2:30 – 4:30 PM\nThe Jeffersonian | 10617 Taylorsville Rd\, Jeffersontown\, KY\nJoin us for one of the most heartwarming events of the year! The Kids Center Annual Back-to-School Fashion Show is a joyful celebration that gives children with physical\, intellectual\, and developmental challenges the chance to shine. \nEach model in the show is a child served by the Kids Center — and each one selects their own outfit to debut on the runway. For many\, this event marks a powerful milestone: stepping into the spotlight with pride and confidence\, cheered on by a community that believes in them. \nTickets available at the door\nAdults: $10\nAges 6-17: $5\nChildren Under 6: Free \nIf you have questions\, or know someone who would like to volunteer\, please have them contact:\nDeidra May | Project Coordinator\, Program Services\ndmay@kidscenterky.org | 502.584.9781 ext. 169 \nIf you would like to learn about sponsorship opportunities for the Fashion Show\, please contact:\nRachel Seider | Development Associate\nrseider@kidscenterky.org | 502-584-9781\, ext. 160
URL:https://kidscenterky.org/event/fashionshow/
LOCATION:The Jeffersonian\, 10617 Taylorsville Road\, Louisville\, KY\, 40299
END:VEVENT
END:VCALENDAR